BEGIN:VCALENDAR
VERSION:2.0
PRODID:-//ddaysoftware.com//NONSGML DDay.iCal 1.0//EN
BEGIN:VTIMEZONE
TZID:W. Europe Standard Time
BEGIN:STANDARD
DTSTART:20251002T030000
RRULE:FREQ=YEARLY;BYDAY=-1SU;BYHOUR=3;BYMINUTE=0;BYMONTH=10
TZNAME:W. Europe Standard Time
TZOFFSETFROM:+0200
TZOFFSETTO:+0100
END:STANDARD
BEGIN:DAYLIGHT
DTSTART:20250301T020000
RRULE:FREQ=YEARLY;BYDAY=-1SU;BYHOUR=2;BYMINUTE=0;BYMONTH=3
TZNAME:W. Europe Daylight Time
TZOFFSETFROM:+0100
TZOFFSETTO:+0200
END:DAYLIGHT
END:VTIMEZONE
BEGIN:VEVENT
CATEGORIES:Feuerwehr
DESCRIPTION:\n\nVeranstalter: Freiwillige Feuerwehr Alfeld\n\nhttps://www.a
 lfeld-mfr.de/aktuelles/veranstaltungen/ehrenabend-langjaehrige-dienstzeit-
 bei-der-feuerwehr/
DTEND:20260509T200000
DTSTAMP:20260420T090830Z
DTSTART:20260509T190000
LOCATION:Volksmusikzentrum: An der Bauernwiese 2\, 91236 Alfeld
SEQUENCE:0
SUMMARY:Ehrenabend langjährige Dienstzeit bei der Feuerwehr
UID:13029
URL:https://www.alfeld-mfr.de/aktuelles/veranstaltungen/ehrenabend-langjaeh
 rige-dienstzeit-bei-der-feuerwehr/
END:VEVENT
END:VCALENDAR
