BEGIN:VCALENDAR
VERSION:2.0
PRODID:-//ddaysoftware.com//NONSGML DDay.iCal 1.0//EN
BEGIN:VTIMEZONE
TZID:W. Europe Standard Time
BEGIN:STANDARD
DTSTART:20251002T030000
RRULE:FREQ=YEARLY;BYDAY=-1SU;BYHOUR=3;BYMINUTE=0;BYMONTH=10
TZNAME:W. Europe Standard Time
TZOFFSETFROM:+0200
TZOFFSETTO:+0100
END:STANDARD
BEGIN:DAYLIGHT
DTSTART:20250301T020000
RRULE:FREQ=YEARLY;BYDAY=-1SU;BYHOUR=2;BYMINUTE=0;BYMONTH=3
TZNAME:W. Europe Daylight Time
TZOFFSETFROM:+0100
TZOFFSETTO:+0200
END:DAYLIGHT
END:VTIMEZONE
BEGIN:VEVENT
CATEGORIES:Halloween
DESCRIPTION:\n\nVeranstalter: Kulturverein Alfeld e. V.\n\nhttps://www.alfe
 ld-mfr.de/aktuelles/veranstaltungen/halloween-familien-aktion/
DTEND:20261031T180000
DTSTAMP:20260424T003106Z
DTSTART:20261031T170000
LOCATION:Bauwagen
SEQUENCE:0
SUMMARY:Halloween Familien Aktion
UID:13088
URL:https://www.alfeld-mfr.de/aktuelles/veranstaltungen/halloween-familien-
 aktion/
END:VEVENT
END:VCALENDAR
