BEGIN:VCALENDAR
VERSION:2.0
PRODID:-//ddaysoftware.com//NONSGML DDay.iCal 1.0//EN
BEGIN:VTIMEZONE
TZID:W. Europe Standard Time
BEGIN:STANDARD
DTSTART:20251002T030000
RRULE:FREQ=YEARLY;BYDAY=-1SU;BYHOUR=3;BYMINUTE=0;BYMONTH=10
TZNAME:W. Europe Standard Time
TZOFFSETFROM:+0200
TZOFFSETTO:+0100
END:STANDARD
BEGIN:DAYLIGHT
DTSTART:20250301T020000
RRULE:FREQ=YEARLY;BYDAY=-1SU;BYHOUR=2;BYMINUTE=0;BYMONTH=3
TZNAME:W. Europe Daylight Time
TZOFFSETFROM:+0100
TZOFFSETTO:+0200
END:DAYLIGHT
END:VTIMEZONE
BEGIN:VEVENT
CATEGORIES:Jahreshauptversammlung
DESCRIPTION:\n\nVeranstalter: Gesangverein Alfeld 1852 e. V.\n\nhttps://www
 .alfeld-mfr.de/aktuelles/veranstaltungen/jahreshauptversammlung-des-gesang
 verein-alfeld-1852/
DTEND:20270114T200000
DTSTAMP:20260419T214045Z
DTSTART:20270114T190000
LOCATION:Gasthof Berghof: Am Kühberg 23\, 91236 Alfeld
SEQUENCE:0
SUMMARY:Jahreshauptversammlung des Gesangverein Alfeld 1852
UID:13028
URL:https://www.alfeld-mfr.de/aktuelles/veranstaltungen/jahreshauptversamml
 ung-des-gesangverein-alfeld-1852/
END:VEVENT
END:VCALENDAR
