BEGIN:VCALENDAR
VERSION:2.0
PRODID:-//ddaysoftware.com//NONSGML DDay.iCal 1.0//EN
BEGIN:VTIMEZONE
TZID:W. Europe Standard Time
BEGIN:STANDARD
DTSTART:20251002T030000
RRULE:FREQ=YEARLY;BYDAY=-1SU;BYHOUR=3;BYMINUTE=0;BYMONTH=10
TZNAME:W. Europe Standard Time
TZOFFSETFROM:+0200
TZOFFSETTO:+0100
END:STANDARD
BEGIN:DAYLIGHT
DTSTART:20250301T020000
RRULE:FREQ=YEARLY;BYDAY=-1SU;BYHOUR=2;BYMINUTE=0;BYMONTH=3
TZNAME:W. Europe Daylight Time
TZOFFSETFROM:+0100
TZOFFSETTO:+0200
END:DAYLIGHT
END:VTIMEZONE
BEGIN:VEVENT
CATEGORIES:Vereine
DESCRIPTION:\n\nVeranstalter: VdK OV Thalheim-Alfeld-Heldmannsberg\n\nhttps
 ://www.alfeld-mfr.de/aktuelles/veranstaltungen/kaffee-nachmittag/
DTEND:20250906T153000
DTSTAMP:20260419T195952Z
DTSTART:20250906T143000
LOCATION:Cafe Insider: Hauptstr. 23\, 91236 Alfeld
SEQUENCE:0
SUMMARY:Kaffee-Nachmittag
UID:12502
URL:https://www.alfeld-mfr.de/aktuelles/veranstaltungen/kaffee-nachmittag/
END:VEVENT
END:VCALENDAR
