BEGIN:VCALENDAR
VERSION:2.0
PRODID:-//ddaysoftware.com//NONSGML DDay.iCal 1.0//EN
BEGIN:VTIMEZONE
TZID:W. Europe Standard Time
BEGIN:STANDARD
DTSTART:20251002T030000
RRULE:FREQ=YEARLY;BYDAY=-1SU;BYHOUR=3;BYMINUTE=0;BYMONTH=10
TZNAME:W. Europe Standard Time
TZOFFSETFROM:+0200
TZOFFSETTO:+0100
END:STANDARD
BEGIN:DAYLIGHT
DTSTART:20250301T020000
RRULE:FREQ=YEARLY;BYDAY=-1SU;BYHOUR=2;BYMINUTE=0;BYMONTH=3
TZNAME:W. Europe Daylight Time
TZOFFSETFROM:+0100
TZOFFSETTO:+0200
END:DAYLIGHT
END:VTIMEZONE
BEGIN:VEVENT
CATEGORIES:Kirche
CATEGORIES:Gottesdienst
DESCRIPTION:\n\nVeranstalter: Kirchengemeinde Alfeld\n\nhttps://www.alfeld-
 mfr.de/aktuelles/veranstaltungen/kirchengemeinde-alfeld-ewigkeitssonntag-m
 it-gedenken-der-verstorbenen/
DTEND:20201122T103000
DTSTAMP:20260421T062959Z
DTSTART:20201122T093000
LOCATION:Kirche Alfeld: Hersbrucker Str. 1\, 91236 Alfeld
SEQUENCE:0
SUMMARY:Kirchengemeinde Alfeld - Ewigkeitssonntag mit Gedenken der Verstorb
 enen
UID:6500
URL:https://www.alfeld-mfr.de/aktuelles/veranstaltungen/kirchengemeinde-alf
 eld-ewigkeitssonntag-mit-gedenken-der-verstorbenen/
END:VEVENT
END:VCALENDAR
